BEGIN:VCALENDAR
VERSION:2.0
PRODID:-//Wetlands Park Friends - ECPv6.15.20//NONSGML v1.0//EN
CALSCALE:GREGORIAN
METHOD:PUBLISH
X-WR-CALNAME:Wetlands Park Friends
X-ORIGINAL-URL:https://wetlandsparkfriends.org
X-WR-CALDESC:Events for Wetlands Park Friends
REFRESH-INTERVAL;VALUE=DURATION:PT1H
X-Robots-Tag:noindex
X-PUBLISHED-TTL:PT1H
BEGIN:VTIMEZONE
TZID:UTC
BEGIN:STANDARD
TZOFFSETFROM:+0000
TZOFFSETTO:+0000
TZNAME:UTC
DTSTART:20240101T000000
END:STANDARD
END:VTIMEZONE
BEGIN:VEVENT
DTSTART;TZID=UTC:20250821T180000
DTEND;TZID=UTC:20250821T200000
DTSTAMP:20260421T080456
CREATED:20250401T165041Z
LAST-MODIFIED:20250802T132824Z
UID:10000069-1755799200-1755806400@wetlandsparkfriends.org
SUMMARY:Wetlands in the Summer: An Evening Lecture Series’ Lecture Four of Five: The Desert Scrub: A Walk Along the Uplands of the Las Vegas Wash
DESCRIPTION:Wetlands Park Friends and Clark County Wetlands Park are pleased to present a second season consisting of five evening summer lectures that are free and open to the public. The lectures will be held from 6 PM to 8 PM at the Park’s Auditorium\, 7050 Wetlands Park Lane\, Las Vegas\, NV 89122. Light refreshments will be served. More details to come\, when they are available. Questions? Please email us at friends@wetlandsparkfriends.org. \nThe Las Vegas Wash (Wash) bisects Clark County Wetlands Park and is the primary drainage channel for the Las Vegas Valley. The most extensive\, but least visited area in Clark County Wetlands Park is the upland desert scrub habitat found on the north side of the Park. This habitat encompasses a diverse range of plants and wildlife species not found in other parts of the Park. Mr. Rice will showcase some of the unique species that you can find in this area. \nNick Rice is a Senior Environmental Biologist with the Southern Nevada Water Authority (SNWA) and has been with the cooperative agency for over 20 years. SNWA is one of 26 member agencies of the Las Vegas Wash Coordination Committee (LVWCC). The LVWCC is comprised of federal\, state\, and local agency partners along with environmental groups\, the University of Las Vegas\, and citizen members. The LVWCC has spent over 25 years working to stabilize and enhance the Wash\, reducing erosion\, improving water quality\, and creating habitat. \nSpeaker: Nick Rice\, Senior Environmental Biologist\, Southern Nevada Water Authority (SNWA)
URL:https://wetlandsparkfriends.org/event/wetlands-in-the-summer-an-evening-lecture-series-lecture-four-of-five-the-desert-scrub-a-walk-along-the-uplands-of-the-las-vegas-wash/
LOCATION:Clark County Wetlands Park\, 7050 Wetlands Park Lane\, Las Vegas\, NV\, 89122\, United States
END:VEVENT
END:VCALENDAR