BEGIN:VCALENDAR
VERSION:2.0
PRODID:-//Wetlands Park Friends - ECPv6.15.20//NONSGML v1.0//EN
CALSCALE:GREGORIAN
METHOD:PUBLISH
X-ORIGINAL-URL:https://wetlandsparkfriends.org
X-WR-CALDESC:Events for Wetlands Park Friends
REFRESH-INTERVAL;VALUE=DURATION:PT1H
X-Robots-Tag:noindex
X-PUBLISHED-TTL:PT1H
BEGIN:VTIMEZONE
TZID:UTC
BEGIN:STANDARD
TZOFFSETFROM:+0000
TZOFFSETTO:+0000
TZNAME:UTC
DTSTART:20240101T000000
END:STANDARD
END:VTIMEZONE
BEGIN:VEVENT
DTSTART;TZID=UTC:20250809T193000
DTEND;TZID=UTC:20250809T210000
DTSTAMP:20260421T113550
CREATED:20250717T143102Z
LAST-MODIFIED:20250717T143259Z
UID:10000076-1754767800-1754773200@wetlandsparkfriends.org
SUMMARY:Stalking Twilight
DESCRIPTION:Experience Wetlands Park at night! Go on a group walk with a Wetlands Park naturalist and explore the Nature Preserve under the full moon. Look for bats\, beavers\, raccoons and other night creatures. Wetlands Park Friends members will be there to help you view the moon and other celestial bodies through binoculars. And score some celestial candy!  The Wetlands Park Nature Store and Exhibit Gallery will be open. All ages welcome. Space is limited\, please register in advance. All ages welcome. Registration and fee for all participants is required. For more information\, please visit: https://tinyurl.com/hejs4mew.
URL:https://wetlandsparkfriends.org/event/stalking-twilight/
LOCATION:Clark County Wetlands Park\, 7050 Wetlands Park Lane\, Las Vegas\, NV\, 89122\, United States
END:VEVENT
END:VCALENDAR