BEGIN:VCALENDAR
VERSION:2.0
PRODID:-//Wetlands Park Friends - ECPv6.15.20//NONSGML v1.0//EN
CALSCALE:GREGORIAN
METHOD:PUBLISH
X-WR-CALNAME:Wetlands Park Friends
X-ORIGINAL-URL:https://wetlandsparkfriends.org
X-WR-CALDESC:Events for Wetlands Park Friends
REFRESH-INTERVAL;VALUE=DURATION:PT1H
X-Robots-Tag:noindex
X-PUBLISHED-TTL:PT1H
BEGIN:VTIMEZONE
TZID:UTC
BEGIN:STANDARD
TZOFFSETFROM:+0000
TZOFFSETTO:+0000
TZNAME:UTC
DTSTART:20240101T000000
END:STANDARD
END:VTIMEZONE
BEGIN:VEVENT
DTSTART;TZID=UTC:20250612T180000
DTEND;TZID=UTC:20250612T200000
DTSTAMP:20260421T105430
CREATED:20250401T164216Z
LAST-MODIFIED:20250402T153322Z
UID:10000067-1749751200-1749758400@wetlandsparkfriends.org
SUMMARY:Wetlands in the Summer Lecture Series: Over Two Decades of Conservation: The Story of the Relict Leopard Frog
DESCRIPTION:Wetlands Park Friends and Clark County Wetlands Park are pleased to present a second season consisting of five evening summer lectures that are free and open to the public. The lectures will be held from 6 PM to 8 PM at the Park’s Auditorium\, 7050 Wetlands Park Lane\, Las Vegas\, NV 89122. Light refreshments will be served. \nDate: Thursday\, June 12\nTime: 6 PM to 8 PM\n \nLecture 2 of 5: “Over Two Decades of Conservation: The Story of the Relict Leopard Frog”\n \nSpeaker: Jef Jaeger\, UNLV Associate Professor in Residence with the School of Life Sciences\nEndemic to southern Nevada\, the Relict Leopard Frog suffered a substantial decline in range and numbers by the end of the 20th century. In 2001\, the species became the focus of an intensive\, multiagency conservation effort that is centered on managing populations and systematic monitoring. Professor Jaeger’s presentation will focus on the history of this conservation program\, along with its successes\, setbacks\, and limitations. \nQuestions? Please email us at friends@wetlandsparkfriends.org.
URL:https://wetlandsparkfriends.org/event/wetlands-in-the-summer-lecture-series-2-of-5/
LOCATION:Clark County Wetlands Park\, 7050 Wetlands Park Lane\, Las Vegas\, NV\, 89122\, United States
END:VEVENT
END:VCALENDAR