BEGIN:VCALENDAR
VERSION:2.0
PRODID:-//Wetlands Park Friends - ECPv6.15.20//NONSGML v1.0//EN
CALSCALE:GREGORIAN
METHOD:PUBLISH
X-ORIGINAL-URL:https://wetlandsparkfriends.org
X-WR-CALDESC:Events for Wetlands Park Friends
REFRESH-INTERVAL;VALUE=DURATION:PT1H
X-Robots-Tag:noindex
X-PUBLISHED-TTL:PT1H
BEGIN:VTIMEZONE
TZID:UTC
BEGIN:STANDARD
TZOFFSETFROM:+0000
TZOFFSETTO:+0000
TZNAME:UTC
DTSTART:20250101T000000
END:STANDARD
END:VTIMEZONE
BEGIN:VEVENT
DTSTART;TZID=UTC:20260321T100000
DTEND;TZID=UTC:20260321T140000
DTSTAMP:20260420T232533
CREATED:20260126T182443Z
LAST-MODIFIED:20260202T045307Z
UID:10000079-1774087200-1774101600@wetlandsparkfriends.org
SUMMARY:Wetlands Art Day
DESCRIPTION:Whether you’re an accomplished artist or bringing along an energetic three-year-old (or two!)\, Wetlands Art Day truly has something for everyone. This year\, Wetlands Park Friends will be hosting the “Welcome to the Raccoon Residents” table\, where we’ll share fun and fascinating facts about our resident raccoons. \nKids can create their own custom or classic raccoon button to wear during the event and take home\, and they’ll also receive a raccoon mask kit that can be completed at the park or later at home. Best of all\, the event is free—we can’t wait to see you at Wetlands Art Day! 🦝🎨
URL:https://wetlandsparkfriends.org/event/wetlands-art-day-4/
LOCATION:Clark County Wetlands Park\, 7050 Wetlands Park Lane\, Las Vegas\, NV\, 89122\, United States
ATTACH;FMTTYPE=image/jpeg:https://wetlandsparkfriends.org/wp-content/uploads/2026/01/Art-Day-2026-Banner-1.jpg
END:VEVENT
BEGIN:VEVENT
DTSTART;TZID=UTC:20260425T100000
DTEND;TZID=UTC:20260425T130000
DTSTAMP:20260420T232533
CREATED:20260414T160713Z
LAST-MODIFIED:20260414T160713Z
UID:10000081-1777111200-1777122000@wetlandsparkfriends.org
SUMMARY:BioBlast 2026
DESCRIPTION:You know you will have a blast at BioBlast\, an event presented by Clark County Parks & Recreation\, Clark Count Wetlands Park\, and Commissioner Jim Gibson. It’s all about the flora\, fauna\, and environment found in the Park and in southern Nevada. Visit Science Stations\, where guest scientists and naturalists will help you identify fish\, bugs\, plants\, birds\, and mammals. Learn about a wide range of topics\, including how native species adapt\, survive\, and thrive in this corner of the driest desert in North America. Celebrate World Migratory Bird Day 2026\, which highlights the important role of community science in bird conservation. \nWetlands Park Friends is overseeing the “Mesquite Woodlands Table.” Learn about our important mesquite trees as well as an interesting parasitic relationship they have with mistletoe. Lastly\, learn about a bird whose seasonal diet depends on the parasite!
URL:https://wetlandsparkfriends.org/event/bioblast-2026/
LOCATION:Clark County Wetlands Park\, 7050 Wetlands Park Lane\, Las Vegas\, NV\, 89122\, United States
ATTACH;FMTTYPE=image/jpeg:https://wetlandsparkfriends.org/wp-content/uploads/2026/04/BIOBlast-logo-JPEG-scaled.jpg
END:VEVENT
END:VCALENDAR