BEGIN:VCALENDAR
VERSION:2.0
PRODID:-//Wetlands Park Friends - ECPv6.15.20//NONSGML v1.0//EN
CALSCALE:GREGORIAN
METHOD:PUBLISH
X-WR-CALNAME:Wetlands Park Friends
X-ORIGINAL-URL:https://wetlandsparkfriends.org
X-WR-CALDESC:Events for Wetlands Park Friends
REFRESH-INTERVAL;VALUE=DURATION:PT1H
X-Robots-Tag:noindex
X-PUBLISHED-TTL:PT1H
BEGIN:VTIMEZONE
TZID:UTC
BEGIN:STANDARD
TZOFFSETFROM:+0000
TZOFFSETTO:+0000
TZNAME:UTC
DTSTART:20240101T000000
END:STANDARD
END:VTIMEZONE
BEGIN:VEVENT
DTSTART;TZID=UTC:20251108T090000
DTEND;TZID=UTC:20260124T150000
DTSTAMP:20260420T214537
CREATED:20251003T153605Z
LAST-MODIFIED:20251003T153605Z
UID:10000078-1762592400-1769266800@wetlandsparkfriends.org
SUMMARY:Wetlands for the Holidays
DESCRIPTION:Wetlands Park Friends Presents In Support of Clark County Wetlands Park \nWetlands for the Holidays/“Making It Real”\nAn Exhibit and Sale of Art\nFrom Photographers of the\nNevada Camera Club\nLocation:  The Nest\, Clark County Wetlands Park Nature Center; 7050 Wetlands Park Lane\, Las Vegas\, NV 89122\nCome view the exhibit featuring the work of fine area photographers. All work is priced at $150; a portion of the sales go to Wetlands Park Friends in support of Park programs and activities.\n  \n\n  \n  \n\n  \n  \n  \n 
URL:https://wetlandsparkfriends.org/event/wetlands-for-the-holidays-2/
LOCATION:Clark County Wetlands Park\, 7050 Wetlands Park Lane\, Las Vegas\, NV\, 89122\, United States
ATTACH;FMTTYPE=image/jpeg:https://wetlandsparkfriends.org/wp-content/uploads/2025/10/Quite-Pond-Clayton-Fox.jpg
END:VEVENT
BEGIN:VEVENT
DTSTART;TZID=UTC:20251115T100000
DTEND;TZID=UTC:20251115T120000
DTSTAMP:20260420T214537
CREATED:20250928T153245Z
LAST-MODIFIED:20251007T160115Z
UID:10000077-1763200800-1763208000@wetlandsparkfriends.org
SUMMARY:Clark County Wetlands Park & Wetlands Park Friends Present\, “Snakes of the Mojave Desert: Ecology & Misconceptions\,” Saturday Morning Lecture November 15 at 10 AM
DESCRIPTION:Clark County Wetlands Park and Wetlands Park Friends are pleased to announce the addition of a Saturday morning lecture to the Park’s November event calendar. “Snakes of the Mojave Desert: Ecology and Misconceptions” will be presented on November 15 at 10 AM at the Park’s Nature Center Auditorium\, 7050 Wetlands Park Lane\, off Tropicana Avenue. No registration is required for this free and family-friendly presentation—simply walk in and enjoy! Light refreshments will be provided during the event. \nThe lecture\, “Snakes of the Mojave Desert: Ecology and Misconceptions\,” will be presented by Lauren MacLeod\, who serves as the Wildlife Education Coordinator for the Nevada Department of Wildlife (NDOW) in Las Vegas. Attendees will be encouraged to “slither” into the secretive world of snakes that call the Mojave Desert home. This presentation will explore the unique adaptations\, ecological significance\, and conservation challenges faced by these desert dwellers and offer tips for staying snake-smart while out hiking the trails. A cold-blooded special guest will be joining the program to offer firsthand insight into these often-misunderstood animals. \nMs. MacLeod holds a Bachelor of Science Degree in Environmental Science from University of Lynchburg in Virginia. She has been affiliated with NDOW for about 6 years. She also has worked for the National Park Service\, Lake Mead Recreational Area; the Great Basin Institute; and Fort Ticonderoga\, Ticonderoga\, NY. \nWetlands Park Friends is a nonprofit\, 501(c)3 organization dedicated to promoting conservation\, awareness\, and appreciation of the Park through its educational programs and activities. Its office is located inside the Park’s Administration Building in the Nature Center; 7050 Wetlands Park Lane\, Las Vegas\, NV 89122. Its phone number is 702-806-6852. For more information\, including how to become a Friend and donate\, please visit: www.wetlandsparkfriends.org or on social media and YouTube at WetlandsParkFriends. \nMore information about this event can be found at https://tinyurl.com/3knduy3n. As one of the largest urban wetlands in the Southwest\, Clark County Wetlands Park is home to more than 300 species of birds and 70 species of mammals and reptiles\, including beavers\, coyotes\, bobcats\, and snakes. The Nature Center is open from 9 a.m. to 3 p.m. Tuesday through Sunday and hosts a variety of programming activities. Park outdoor hours are dawn to dusk\, seven days a week. To learn more about this event and other activities available\, visit the Wetlands Park pages of Clark County’s Parks and Recreation Department at www.ClarkCountyNV.gov. You also can follow Clark County Wetlands Park on social media at CCWetlandsPark. \nClark County is a dynamic and innovative organization dedicated to providing top-quality service with integrity\, respect and accountability. With jurisdiction over the world-famous Las Vegas Strip and covering an area the size of New Jersey\, Clark is the nation’s 11th-largest county and provides extensive regional services to 2.3 million citizens and 45.6 million visitors a year (2019). Included are the nation’s 8th-busiest airport\, air quality compliance\, social services and the state’s largest public hospital\, University Medical Center. The County also provides municipal services that are traditionally provided by cities to 1 million residents in the unincorporated area. Those include fire protection\, roads and other public works\, parks and recreation\, and planning and development.
URL:https://wetlandsparkfriends.org/event/clark-county-wetlands-park-wetlands-park-friends-present-snakes-of-the-mojave-desert-ecology-misconceptions-saturday-morning-lecture-november-15-at-10-am/
LOCATION:Clark County Wetlands Park\, 7050 Wetlands Park Lane\, Las Vegas\, NV\, 89122\, United States
ATTACH;FMTTYPE=image/jpeg:https://wetlandsparkfriends.org/wp-content/uploads/2025/09/great-basin-gopher-snake-pituophis_catenifer_deserticola-scaled-MacLeod-scaled.jpg
END:VEVENT
BEGIN:VEVENT
DTSTART;TZID=UTC:20251115T110000
DTEND;TZID=UTC:20251115T120000
DTSTAMP:20260420T214537
CREATED:20250102T174511Z
LAST-MODIFIED:20251007T160327Z
UID:10000065-1763204400-1763208000@wetlandsparkfriends.org
SUMMARY:Wetlands Park Friends Annual Meeting
DESCRIPTION:Wetlands Park Friends will host its 6th Annual Meeting in the Auditorium at the Clark County Wetlands Park Nature Center\, located at 7050 Wetlands Park Lane\, Las Vegas\, NV  89122. The meeting will follow the scheduled November Saturday Morning Lecture\, presented by the Park and Friends: “Snakes of the Mojave Desert: Ecology & Misconceptions\,” at 10 AM. The lecture is free\, family-friendly\, and open to the public. Guest of the lecture are welcomed to attend the meeting\, along with Friends members. The address is 7050 Wetlands Park Lane\, Las Vegas\, NV 89122. For more information\, please email: friends@wetlandsparkfriends.org.
URL:https://wetlandsparkfriends.org/event/wetlands-park-friends-annual-meeting-2/
LOCATION:Clark County Wetlands Park\, 7050 Wetlands Park Lane\, Las Vegas\, NV\, 89122\, United States
ATTACH;FMTTYPE=image/jpeg:https://wetlandsparkfriends.org/wp-content/uploads/2025/01/The-Board-Team-cropped-WPF-archives-scaled.jpg
END:VEVENT
END:VCALENDAR