BEGIN:VCALENDAR
VERSION:2.0
PRODID:-//Wetlands Park Friends - ECPv6.15.20//NONSGML v1.0//EN
CALSCALE:GREGORIAN
METHOD:PUBLISH
X-WR-CALNAME:Wetlands Park Friends
X-ORIGINAL-URL:https://wetlandsparkfriends.org
X-WR-CALDESC:Events for Wetlands Park Friends
REFRESH-INTERVAL;VALUE=DURATION:PT1H
X-Robots-Tag:noindex
X-PUBLISHED-TTL:PT1H
BEGIN:VTIMEZONE
TZID:UTC
BEGIN:STANDARD
TZOFFSETFROM:+0000
TZOFFSETTO:+0000
TZNAME:UTC
DTSTART:20240101T000000
END:STANDARD
END:VTIMEZONE
BEGIN:VEVENT
DTSTART;TZID=UTC:20250426T090000
DTEND;TZID=UTC:20250426T130000
DTSTAMP:20260421T105312
CREATED:20250214T180107Z
LAST-MODIFIED:20250214T180107Z
UID:10000072-1745658000-1745672400@wetlandsparkfriends.org
SUMMARY:BioBlast
DESCRIPTION:You will have a blast at BioBlast\, an event created and produced by Clark County Wetlands Park. It’s all about the flora\, fauna\, and environment found in the Park and southern Nevada. Stop by stations throughout the Nature Center and Nature Preserve. Learn about a wide range of topics and find out how they enable critical habitats and animal\, bird\, insect\, and plant species to adapt\, survive and thrive in this corner of the driest desert in North America! Lots of hands-on activities to be found at BioBlast\, too! The Wetlands Park Friends table showcases the various native plant species found in the Park. There’ll be lots of fun and games there! The event is free and open to the public.
URL:https://wetlandsparkfriends.org/event/bioblast-3/
LOCATION:Clark County Wetlands Park\, 7050 Wetlands Park Lane\, Las Vegas\, NV\, 89122\, United States
END:VEVENT
END:VCALENDAR